BEGIN:VCALENDAR
VERSION:2.0
PRODID:-//Squarespace Inc/Squarespace 6//v6//EN
BEGIN:VEVENT
UID:5742975f22482e19cfdd7a63@squarespace.com
DTSTAMP:20160523T054037Z
DTSTART:20160615T230000Z
DTEND:20160617T020000Z
SUMMARY:Paul Lindenberg
END:VEVENT
END:VCALENDAR
